Workbook
Name Nosilec_stroška: 'Finančni načrt 1. FAZA'!$B$59:$B$67
Name Nosilecoperacije: 'Finančni načrt 1. FAZA'!$B$59
Name SS: 'Finančni načrt 1. FAZA'!#REF!
Name Vodilni_partner: 'Finančni načrt 1. FAZA'!$B$59:$B$67

Sheet Finančni načrt 1. FAZA
A3: NAVODILO ZA IZPOLNJEVANJE:
A4: polja obarvana rumeno, se izpolnijo avtomatsko;
A5: pri dodajajanju vrstic pazite, da boste kopirali formule;
A6: zneski v stolpcih F, G, H, I, J, L, M morajo biti vpisani na dve decimalni mesti natančno.
J9: 0 | K9: 0.086758 | L9: 0.180328
A11: Priloga 7: Finančni načrt operacije
A13: aktivnost operacije | B13: nosilec stroška | C13: vrsta stroška | D13: enota | E13: št. enot | F13: cena na enoto z DDV (€) | G13: skupna vrednost z DDV (€) | H13: DDV (%) | I13: DDV (€) | J13: skupna vrednost brez DDV (€) | K13: upravičen strošek (€) | L13: delež sofinanciranja (%) | M13: zaprošena vrednost (€) | N13: lastna sredstva (€) | O13: opombe
G14: =E14*F14 -> 0 | I14: =SUM(G14*H14) -> 0 | J14: =G14-I14 -> 0 | K14: =+J14 -> 0 | M14: =(K14*L14)/100 -> 0 | N14: =G14-M14 -> 0
G15: =E15*F15 -> 0 | I15: =SUM(G15*H15) -> 0 | J15: =G15-I15 -> 0 | K15: =+J15 -> 0 | M15: =(K15*L15)/100 -> 0 | N15: =G15-M15 -> 0
G16: =E16*F16 -> 0 | I16: =SUM(G16*H16) -> 0 | J16: =G16-I16 -> 0 | K16: =+J16 -> 0 | M16: =(K16*L16)/100 -> 0 | N16: =G16-M16 -> 0
G17: =E17*F17 -> 0 | I17: =SUM(G17*H17) -> 0 | J17: =G17-I17 -> 0 | K17: =+J17 -> 0 | M17: =(K17*L17)/100 -> 0 | N17: =G17-M17 -> 0
G18: =E18*F18 -> 0 | I18: =SUM(G18*H18) -> 0 | J18: =G18-I18 -> 0 | K18: =+J18 -> 0 | M18: =(K18*L18)/100 -> 0 | N18: =G18-M18 -> 0
G19: =E19*F19 -> 0 | I19: =SUM(G19*H19) -> 0 | J19: =G19-I19 -> 0 | K19: =+J19 -> 0 | M19: =(K19*L19)/100 -> 0 | N19: =G19-M19 -> 0
G20: =E20*F20 -> 0 | I20: =SUM(G20*H20) -> 0 | J20: =G20-I20 -> 0 | K20: =+J20 -> 0 | M20: =(K20*L20)/100 -> 0 | N20: =G20-M20 -> 0
G21: =E21*F21 -> 0 | I21: =SUM(G21*H21) -> 0 | J21: =G21-I21 -> 0 | K21: =+J21 -> 0 | M21: =(K21*L21)/100 -> 0 | N21: =G21-M21 -> 0
G22: =E22*F22 -> 0 | I22: =SUM(G22*H22) -> 0 | J22: =G22-I22 -> 0 | K22: =+J22 -> 0 | M22: =(K22*L22)/100 -> 0 | N22: =G22-M22 -> 0
G23: =E23*F23 -> 0 | I23: =SUM(G23*H23) -> 0 | J23: =G23-I23 -> 0 | K23: =+J23 -> 0 | M23: =(K23*L23)/100 -> 0 | N23: =G23-M23 -> 0
G24: =E24*F24 -> 0 | I24: =SUM(G24*H24) -> 0 | J24: =G24-I24 -> 0 | K24: =+J24 -> 0 | M24: =(K24*L24)/100 -> 0 | N24: =G24-M24 -> 0
G25: =E25*F25 -> 0 | I25: =SUM(G25*H25) -> 0 | J25: =G25-I25 -> 0 | K25: =+J25 -> 0 | M25: =(K25*L25)/100 -> 0 | N25: =G25-M25 -> 0
... G51: =E51*F51 -> 0 | I51: =SUM(G51*H51) -> 0 | J51: =G51-I51 -> 0 | K51: =+J51 -> 0 | M51: =(K51*L51)/100 -> 0 | N51: =G51-M51 -> 0
A52: SKUPAJ | G52: =SUM(G14:G51) -> 0 | I52: =SUM(I14:I51) -> 0 | J52: =SUM(J14:J51) -> 0 | K52: =SUM(K14:K51) -> 0 | M52: =SUM(M14:M51) -> 0 | N52: =SUM(N14:N51) -> 0

Sheet Finančni načrt 2. FAZA
A3: NAVODILO ZA IZPOLNJEVANJE:
A4: polja obarvana rumeno, se izpolnijo avtomatsko;
A5: pri dodajajanju vrstic pazite, da boste kopirali formule;
A6: zneski v stolpcih F, G, H, I, J, L, M morajo biti vpisani na dve decimalni mesti natančno.
L9: 0 | M9: 0.086758 | N9: 0.180328
A11: Priloga 7: Finančni načrt operacije
A13: aktivnost operacije | B13: nosilec stroška | C13: vrsta stroška | D13: enota | E13: št. enot | F13: cena na enoto z DDV (€) | G13: skupna vrednost z DDV (€) | H13: DDV (%) | I13: DDV (€) | J13: skupna vrednost brez DDV (€) | K13: upravičen strošek (€) | L13: delež sofinanciranja (%) | M13: zaprošena vrednost (€) | N13: lastna sredstva (€) | O13: opombe
G14: =E14*F14 -> 0 | I14: =+SUM(G14*H14) -> 0 | J14: =G14-I14 -> 0 | K14: =+J14 -> 0 | M14: =(K14*L14)/100 -> 0 | N14: =G14-M14 -> 0
G15: =E15*F15 -> 0 | I15: =+SUM(G15*H15) -> 0 | J15: =G15-I15 -> 0 | K15: =+J15 -> 0 | M15: =(K15*L15)/100 -> 0 | N15: =G15-M15 -> 0
G16: =E16*F16 -> 0 | I16: =+SUM(G16*H16) -> 0 | J16: =G16-I16 -> 0 | K16: =+J16 -> 0 | M16: =(K16*L16)/100 -> 0 | N16: =G16-M16 -> 0
G17: =E17*F17 -> 0 | I17: =+SUM(G17*H17) -> 0 | J17: =G17-I17 -> 0 | K17: =+J17 -> 0 | M17: =(K17*L17)/100 -> 0 | N17: =G17-M17 -> 0
G18: =E18*F18 -> 0 | I18: =+SUM(G18*H18) -> 0 | J18: =G18-I18 -> 0 | K18: =+J18 -> 0 | M18: =(K18*L18)/100 -> 0 | N18: =G18-M18 -> 0
G19: =E19*F19 -> 0 | I19: =+SUM(G19*H19) -> 0 | J19: =G19-I19 -> 0 | K19: =+J19 -> 0 | M19: =(K19*L19)/100 -> 0 | N19: =G19-M19 -> 0
G20: =E20*F20 -> 0 | I20: =+SUM(G20*H20) -> 0 | J20: =G20-I20 -> 0 | K20: =+J20 -> 0 | M20: =(K20*L20)/100 -> 0 | N20: =G20-M20 -> 0
G21: =E21*F21 -> 0 | I21: =+SUM(G21*H21) -> 0 | J21: =G21-I21 -> 0 | K21: =+J21 -> 0 | M21: =(K21*L21)/100 -> 0 | N21: =G21-M21 -> 0
G22: =E22*F22 -> 0 | I22: =+SUM(G22*H22) -> 0 | J22: =G22-I22 -> 0 | K22: =+J22 -> 0 | M22: =(K22*L22)/100 -> 0 | N22: =G22-M22 -> 0
G23: =E23*F23 -> 0 | I23: =+SUM(G23*H23) -> 0 | J23: =G23-I23 -> 0 | K23: =+J23 -> 0 | M23: =(K23*L23)/100 -> 0 | N23: =G23-M23 -> 0
G24: =E24*F24 -> 0 | I24: =+SUM(G24*H24) -> 0 | J24: =G24-I24 -> 0 | K24: =+J24 -> 0 | M24: =(K24*L24)/100 -> 0 | N24: =G24-M24 -> 0
G25: =E25*F25 -> 0 | I25: =+SUM(G25*H25) -> 0 | J25: =G25-I25 -> 0 | K25: =+J25 -> 0 | M25: =(K25*L25)/100 -> 0 | N25: =G25-M25 -> 0
... G55: =E55*F55 -> 0 | I55: =+SUM(G55*H55) -> 0 | J55: =G55-I55 -> 0 | K55: =+J55 -> 0 | M55: =(K55*L55)/100 -> 0 | N55: =G55-M55 -> 0
A56: SKUPAJ | G56: =SUM(G14:G55) -> 0 | I56: =SUM(I14:I55) -> 0 | J56: =SUM(J14:J55) -> 0 | K56: =SUM(K14:K55) -> 0 | M56: =SUM(M14:M55) -> 0 | N56: =SUM(N14:N55) -> 0

Sheet Finančni načrt po partnerjih
A9: FINANČNI NAČRT PO PARTNERJIH za OPERACIJO
A11: Vrsta stroška | B11: Vodilni partner | D11: Partner 1 | F11: Partner 2 | H11: Partner 3 | J11: Partner 4 | L11: Partner 5 | N11: Partner 6 | P11: Partner 7 | R11: Partner 8 | T11: Skupaj
B12: Faza 1 | C12: Faza 2 | D12: Faza 1 | E12: Faza 2 | F12: Faza 1 | G12: Faza 2 | H12: Faza 1 | I12: Faza 2 | J12: Faza 1 | K12: Faza 2 | L12: Faza 1 | M12: Faza 2 | N12: Faza 1 | O12: Faza 2 | P12: Faza 1 | Q12: Faza 2 | R12: Faza 1 | S12: Faza 2 | T12: Faza 1 | U12: Faza 2
B13: (EUR) | C13: (EUR) | D13: (EUR) | E13: (EUR) | F13: (EUR) | G13: (EUR) | H13: (EUR) | I13: (EUR) | J13: (EUR) | K13: (EUR) | L13: (EUR) | M13: (EUR) | N13: (EUR) | O13: (EUR) | P13: (EUR) | Q13: (EUR) | R13: (EUR) | S13: (EUR) | T13: (EUR) | U13: (EUR)
A14: 1. Stroški plač in povračil stroškov v zvezi z delom | B14: =+B15 -> 0 | C14: =+C15 -> 0 | D14: =+D15 -> 0 | E14: =+E15 -> 0 | F14: =+F15 -> 0 | G14: =+G15 -> 0 | H14: =+H15 -> 0 | I14: =+I15 -> 0 | ... S14: =+S15 -> 0 | T14: =SUM(B14+D14+F14+H14+J14+L14+N14+P14+R14) -> 0 | U14: =+SUM(C14+E14+G14+I14+K14+M14+O14+Q14+S14) -> 0
A15: 1.1. Stroški dela | B15: =SUMIFS('Finančni načrt 1. FAZA'!$K$14:$K$51,'Finančni načrt 1. FAZA'!$B$14:$B$51,"Vodilni partner",'Finančni načrt 1. FAZA'!$C$14:$C$51,"Stroški dela") -> 0 | C15: =SUMIFS('Finančni načrt 2. FAZA'!$K$14:$K$55,'Finančni načrt 2. FAZA'!$B$14:$B$55,"Vodilni partner",'Finančni načrt 2. FAZA'!$C$14:$C$55,"Stroški dela") -> 0 | D15: =SUMIFS('Finančni načrt 1. FAZA'!$K$14:$K$51,'Finančni načrt 1. FAZA'!$B$14:$B$51,"Partner 1",'Finančni načrt 1. FAZA'!$C$14:$C$51,"Stroški dela") -> 0 | E15: =SUMIFS('Finančni načrt 2. FAZA'!$K$14:$K$55,'Finančni načrt 2. FAZA'!$B$14:$B$55,"Partner 1",'Finančni načrt 2. FAZA'!$C$14:$C$55,"Stroški dela") -> 0 | F15: =SUMIFS('Finančni načrt 1. FAZA'!$K$14:$K$51,'Finančni načrt 1. FAZA'!$B$14:$B$51,"Partner 2",'Finančni načrt 1. FAZA'!$C$14:$C$51,"Stroški dela") -> 0 | G15: =SUMIFS('Finančni načrt 2. FAZA'!$K$14:$K$55,'Finančni načrt 2. FAZA'!$B$14:$B$55,"Partner 2",'Finančni načrt 2. FAZA'!$C$14:$C$55,"Stroški dela") -> 0 | H15: =SUMIFS('Finančni načrt 1. FAZA'!$K$14:$K$51,'Finančni načrt 1. FAZA'!$B$14:$B$51,"Partner 3",'Finančni načrt 1. FAZA'!$C$14:$C$51,"Stroški dela") -> 0 | I15: =SUMIFS('Finančni načrt 2. FAZA'!$K$14:$K$55,'Finančni načrt 2. FAZA'!$B$14:$B$55,"Partner 3",'Finančni načrt 2. FAZA'!$C$14:$C$55,"Stroški dela") -> 0 | J15: =SUMIFS('Finančni načrt 1. FAZA'!$K$14:$K$51,'Finančni načrt 1. FAZA'!$B$14:$B$51,"Partner 4",'Finančni načrt 1. FAZA'!$C$14:$C$51,"Stroški dela") -> 0 | K15: =SUMIFS('Finančni načrt 2. FAZA'!$K$14:$K$55,'Finančni načrt 2. FAZA'!$B$14:$B$55,"Partner 4",'Finančni načrt 2. FAZA'!$C$14:$C$55,"Stroški dela") -> 0 | L15: =SUMIFS('Finančni načrt 1. FAZA'!$K$14:$K$51,'Finančni načrt 1. FAZA'!$B$14:$B$51,"Partner 5",'Finančni načrt 1. FAZA'!$C$14:$C$51,"Stroški dela") -> 0 | M15: =SUMIFS('Finančni načrt 2. FAZA'!$K$14:$K$55,'Finančni načrt 2. FAZA'!$B$14:$B$55,"Partner 5",'Finančni načrt 2. FAZA'!$C$14:$C$55,"Stroški dela") -> 0 | N15: =SUMIFS('Finančni načrt 1. FAZA'!$K$14:$K$51,'Finančni načrt 1. FAZA'!$B$14:$B$51,"Partner 6",'Finančni načrt 1. FAZA'!$C$14:$C$51,"Stroški dela") -> 0 | O15: =SUMIFS('Finančni načrt 2. FAZA'!$K$14:$K$55,'Finančni načrt 2. FAZA'!$B$14:$B$55,"Partner 6",'Finančni načrt 2. FAZA'!$C$14:$C$55,"Stroški dela") -> 0 | P15: =SUMIFS('Finančni načrt 1. FAZA'!$K$14:$K$51,'Finančni načrt 1. FAZA'!$B$14:$B$51,"Partner 7",'Finančni načrt 1. FAZA'!$C$14:$C$51,"Stroški dela") -> 0 | Q15: =SUMIFS('Finančni načrt 2. FAZA'!$K$14:$K$55,'Finančni načrt 2. FAZA'!$B$14:$B$55,"Partner 7",'Finančni načrt 2. FAZA'!$C$14:$C$55,"Stroški dela") -> 0 | R15: =SUMIFS('Finančni načrt 1. FAZA'!$K$14:$K$51,'Finančni načrt 1. FAZA'!$B$14:$B$51,"Partner 8",'Finančni načrt 1. FAZA'!$C$14:$C$51,"Stroški dela") -> 0 | S15: =SUMIFS('Finančni načrt 2. FAZA'!$K$14:$K$55,'Finančni načrt 2. FAZA'!$B$14:$B$55,"Partner 8",'Finančni načrt 2. FAZA'!$C$14:$C$55,"Stroški dela") -> 0 | T15: =SUM(B15+D15+F15+H15+J15+L15+N15+P15+R15) -> 0 | U15: =+SUM(C15+E15+G15+I15+K15+M15+O15+Q15+S15) -> 0
A16: 2. Zunanji stroški (ZS) (brez DDV) | B16: =+B17+B18+B19 -> 0 | C16: =+C17+C18+C19 -> 0 | D16: =+D17+D18+D19 -> 0 | E16: =+E17+E18+E19 -> 0 | F16: =+F17+F18+F19 -> 0 | G16: =+G17+G18+G19 -> 0 | H16: =+H17+H18+H19 -> 0 | I16: =+I17+I18+I19 -> 0 | ... S16: =+S17+S18+S19 -> 0 | T16: =SUM(B16+D16+F16+H16+J16+L16+N16+P16+R16) -> 0 | U16: =+SUM(C16+E16+G16+I16+K16+M16+O16+Q16+S16) -> 0
A17: 2.1. Stroški materiala | B17: =SUMIFS('Finančni načrt 1. FAZA'!$K$14:$K$51,'Finančni načrt 1. FAZA'!$B$14:$B$51,"Vodilni partner",'Finančni načrt 1. FAZA'!$C$14:$C$51,"ZS-material") -> 0 | C17: =SUMIFS('Finančni načrt 2. FAZA'!$K$14:$K$55,'Finančni načrt 2. FAZA'!$B$14:$B$55,"Vodilni partner",'Finančni načrt 2. FAZA'!$C$14:$C$55,"ZS-material") -> 0 | D17: =SUMIFS('Finančni načrt 1. FAZA'!$K$14:$K$51,'Finančni načrt 1. FAZA'!$B$14:$B$51,"Partner 1",'Finančni načrt 1. FAZA'!$C$14:$C$51,"ZS-material") -> 0 | E17: =SUMIFS('Finančni načrt 2. FAZA'!$K$14:$K$55,'Finančni načrt 2. FAZA'!$B$14:$B$55,"Partner 1",'Finančni načrt 2. FAZA'!$C$14:$C$55,"ZS-material") -> 0 | F17: =SUMIFS('Finančni načrt 1. FAZA'!$K$14:$K$51,'Finančni načrt 1. FAZA'!$B$14:$B$51,"Partner 2",'Finančni načrt 1. FAZA'!$C$14:$C$51,"ZS-material") -> 0 | G17: =SUMIFS('Finančni načrt 2. FAZA'!$K$14:$K$55,'Finančni načrt 2. FAZA'!$B$14:$B$55,"Partner 2",'Finančni načrt 2. FAZA'!$C$14:$C$55,"ZS-material") -> 0 | H17: =SUMIFS('Finančni načrt 1. FAZA'!$K$14:$K$51,'Finančni načrt 1. FAZA'!$B$14:$B$51,"Partner 3",'Finančni načrt 1. FAZA'!$C$14:$C$51,"ZS-material") -> 0 | I17: =SUMIFS('Finančni načrt 2. FAZA'!$K$14:$K$55,'Finančni načrt 2. FAZA'!$B$14:$B$55,"Partner 3",'Finančni načrt 2. FAZA'!$C$14:$C$55,"ZS-material") -> 0 | J17: =SUMIFS('Finančni načrt 1. FAZA'!$K$14:$K$51,'Finančni načrt 1. FAZA'!$B$14:$B$51,"Partner 4",'Finančni načrt 1. FAZA'!$C$14:$C$51,"ZS-material") -> 0 | K17: =SUMIFS('Finančni načrt 2. FAZA'!$K$14:$K$55,'Finančni načrt 2. FAZA'!$B$14:$B$55,"Partner 4",'Finančni načrt 2. FAZA'!$C$14:$C$55,"ZS-material") -> 0 | L17: =SUMIFS('Finančni načrt 1. FAZA'!$K$14:$K$51,'Finančni načrt 1. FAZA'!$B$14:$B$51,"Partner 5",'Finančni načrt 1. FAZA'!$C$14:$C$51,"ZS-material") -> 0 | M17: =SUMIFS('Finančni načrt 2. FAZA'!$K$14:$K$55,'Finančni načrt 2. FAZA'!$B$14:$B$55,"Partner 5",'Finančni načrt 2. FAZA'!$C$14:$C$55,"ZS-material") -> 0 | N17: =SUMIFS('Finančni načrt 1. FAZA'!$K$14:$K$51,'Finančni načrt 1. FAZA'!$B$14:$B$51,"Partner 6",'Finančni načrt 1. FAZA'!$C$14:$C$51,"ZS-material") -> 0 | O17: =SUMIFS('Finančni načrt 2. FAZA'!$K$14:$K$55,'Finančni načrt 2. FAZA'!$B$14:$B$55,"Partner 6",'Finančni načrt 2. FAZA'!$C$14:$C$55,"ZS-material") -> 0 | P17: =SUMIFS('Finančni načrt 1. FAZA'!$K$14:$K$51,'Finančni načrt 1. FAZA'!$B$14:$B$51,"Partner 7",'Finančni načrt 1. FAZA'!$C$14:$C$51,"ZS-material") -> 0 | Q17: =SUMIFS('Finančni načrt 2. FAZA'!$K$14:$K$55,'Finančni načrt 2. FAZA'!$B$14:$B$55,"Partner 7",'Finančni načrt 2. FAZA'!$C$14:$C$55,"ZS-material") -> 0 | R17: =SUMIFS('Finančni načrt 1. FAZA'!$K$14:$K$51,'Finančni načrt 1. FAZA'!$B$14:$B$51,"Partner 8",'Finančni načrt 1. FAZA'!$C$14:$C$51,"ZS-material") -> 0 | S17: =SUMIFS('Finančni načrt 2. FAZA'!$K$14:$K$55,'Finančni načrt 2. FAZA'!$B$14:$B$55,"Partner 8",'Finančni načrt 2. FAZA'!$C$14:$C$55,"ZS-material") -> 0 | T17: =SUM(B17+D17+F17+H17+J17+L17+N17+P17+R17) -> 0 | U17: =+SUM(C17+E17+G17+I17+K17+M17+O17+Q17+S17) -> 0
A18: 2.2. Stroški naložb | B18: =SUMIFS('Finančni načrt 1. FAZA'!$K$14:$K$51,'Finančni načrt 1. FAZA'!$B$14:$B$51,"Vodilni partner",'Finančni načrt 1. FAZA'!$C$14:$C$51,"ZS-naložba") -> 0 | C18: =SUMIFS('Finančni načrt 2. FAZA'!$K$14:$K$55,'Finančni načrt 2. FAZA'!$B$14:$B$55,"Vodilni partner",'Finančni načrt 2. FAZA'!$C$14:$C$55,"ZS-naložba") -> 0 | D18: =SUMIFS('Finančni načrt 1. FAZA'!$K$14:$K$51,'Finančni načrt 1. FAZA'!$B$14:$B$51,"Partner 1",'Finančni načrt 1. FAZA'!$C$14:$C$51,"ZS-naložba") -> 0 | E18: =SUMIFS('Finančni načrt 2. FAZA'!$K$14:$K$55,'Finančni načrt 2. FAZA'!$B$14:$B$55,"Partner 1",'Finančni načrt 2. FAZA'!$C$14:$C$55,"ZS-naložba") -> 0 | F18: =SUMIFS('Finančni načrt 1. FAZA'!$K$14:$K$51,'Finančni načrt 1. FAZA'!$B$14:$B$51,"Partner 2",'Finančni načrt 1. FAZA'!$C$14:$C$51,"ZS-naložba") -> 0 | G18: =SUMIFS('Finančni načrt 2. FAZA'!$K$14:$K$55,'Finančni načrt 2. FAZA'!$B$14:$B$55,"Partner 2",'Finančni načrt 2. FAZA'!$C$14:$C$55,"ZS-naložba") -> 0 | H18: =SUMIFS('Finančni načrt 1. FAZA'!$K$14:$K$51,'Finančni načrt 1. FAZA'!$B$14:$B$51,"Partner 3",'Finančni načrt 1. FAZA'!$C$14:$C$51,"ZS-naložba") -> 0 | I18: =SUMIFS('Finančni načrt 2. FAZA'!$K$14:$K$55,'Finančni načrt 2. FAZA'!$B$14:$B$55,"Partner 3",'Finančni načrt 2. FAZA'!$C$14:$C$55,"ZS-naložba") -> 0 | J18: =SUMIFS('Finančni načrt 1. FAZA'!$K$14:$K$51,'Finančni načrt 1. FAZA'!$B$14:$B$51,"Partner 4",'Finančni načrt 1. FAZA'!$C$14:$C$51,"ZS-naložba") -> 0 | K18: =SUMIFS('Finančni načrt 2. FAZA'!$K$14:$K$55,'Finančni načrt 2. FAZA'!$B$14:$B$55,"Partner 4",'Finančni načrt 2. FAZA'!$C$14:$C$55,"ZS-naložba") -> 0 | L18: =SUMIFS('Finančni načrt 1. FAZA'!$K$14:$K$51,'Finančni načrt 1. FAZA'!$B$14:$B$51,"Partner 5",'Finančni načrt 1. FAZA'!$C$14:$C$51,"ZS-naložba") -> 0 | M18: =SUMIFS('Finančni načrt 2. FAZA'!$K$14:$K$55,'Finančni načrt 2. FAZA'!$B$14:$B$55,"Partner 5",'Finančni načrt 2. FAZA'!$C$14:$C$55,"ZS-naložba") -> 0 | N18: =SUMIFS('Finančni načrt 1. FAZA'!$K$14:$K$51,'Finančni načrt 1. FAZA'!$B$14:$B$51,"Partner 6",'Finančni načrt 1. FAZA'!$C$14:$C$51,"ZS-naložba") -> 0 | O18: =SUMIFS('Finančni načrt 2. FAZA'!$K$14:$K$55,'Finančni načrt 2. FAZA'!$B$14:$B$55,"Partner 6",'Finančni načrt 2. FAZA'!$C$14:$C$55,"ZS-naložba") -> 0 | P18: =SUMIFS('Finančni načrt 1. FAZA'!$K$14:$K$51,'Finančni načrt 1. FAZA'!$B$14:$B$51,"Partner 7",'Finančni načrt 1. FAZA'!$C$14:$C$51,"ZS-naložba") -> 0 | Q18: =SUMIFS('Finančni načrt 2. FAZA'!$K$14:$K$55,'Finančni načrt 2. FAZA'!$B$14:$B$55,"Partner 7",'Finančni načrt 2. FAZA'!$C$14:$C$55,"ZS-naložba") -> 0 | R18: =SUMIFS('Finančni načrt 1. FAZA'!$K$14:$K$51,'Finančni načrt 1. FAZA'!$B$14:$B$51,"Partner 8",'Finančni načrt 1. FAZA'!$C$14:$C$51,"ZS-naložba") -> 0 | S18: =SUMIFS('Finančni načrt 2. FAZA'!$K$14:$K$55,'Finančni načrt 2. FAZA'!$B$14:$B$55,"Partner 8",'Finančni načrt 2. FAZA'!$C$14:$C$55,"ZS-naložba") -> 0 | T18: =SUM(B18+D18+F18+H18+J18+L18+N18+P18+R18) -> 0 | U18: =+SUM(C18+E18+G18+I18+K18+M18+O18+Q18+S18) -> 0
A19: 2.3. Stroški storitev | B19: =SUMIFS('Finančni načrt 1. FAZA'!$K$14:$K$51,'Finančni načrt 1. FAZA'!$B$14:$B$51,"Vodilni partner",'Finančni načrt 1. FAZA'!$C$14:$C$51,"ZS-storitev") -> 0 | C19: =SUMIFS('Finančni načrt 2. FAZA'!$K$14:$K$55,'Finančni načrt 2. FAZA'!$B$14:$B$55,"Vodilni partner",'Finančni načrt 2. FAZA'!$C$14:$C$55,"ZS-storitev") -> 0 | D19: =SUMIFS('Finančni načrt 1. FAZA'!$K$14:$K$51,'Finančni načrt 1. FAZA'!$B$14:$B$51,"Partner 1",'Finančni načrt 1. FAZA'!$C$14:$C$51,"ZS-storitev") -> 0 | E19: =SUMIFS('Finančni načrt 2. FAZA'!$K$14:$K$55,'Finančni načrt 2. FAZA'!$B$14:$B$55,"Partner 1",'Finančni načrt 2. FAZA'!$C$14:$C$55,"ZS-storitev") -> 0 | F19: =SUMIFS('Finančni načrt 1. FAZA'!$K$14:$K$51,'Finančni načrt 1. FAZA'!$B$14:$B$51,"Partner 2",'Finančni načrt 1. FAZA'!$C$14:$C$51,"ZS-storitev") -> 0 | G19: =SUMIFS('Finančni načrt 2. FAZA'!$K$14:$K$55,'Finančni načrt 2. FAZA'!$B$14:$B$55,"Partner 2",'Finančni načrt 2. FAZA'!$C$14:$C$55,"ZS-storitev") -> 0 | H19: =SUMIFS('Finančni načrt 1. FAZA'!$K$14:$K$51,'Finančni načrt 1. FAZA'!$B$14:$B$51,"Partner 3",'Finančni načrt 1. FAZA'!$C$14:$C$51,"ZS-storitev") -> 0 | I19: =SUMIFS('Finančni načrt 2. FAZA'!$K$14:$K$55,'Finančni načrt 2. FAZA'!$B$14:$B$55,"Partner 3",'Finančni načrt 2. FAZA'!$C$14:$C$55,"ZS-storitev") -> 0 | J19: =SUMIFS('Finančni načrt 1. FAZA'!$K$14:$K$51,'Finančni načrt 1. FAZA'!$B$14:$B$51,"Partner 4",'Finančni načrt 1. FAZA'!$C$14:$C$51,"ZS-storitev") -> 0 | K19: =SUMIFS('Finančni načrt 2. FAZA'!$K$14:$K$55,'Finančni načrt 2. FAZA'!$B$14:$B$55,"Partner 4",'Finančni načrt 2. FAZA'!$C$14:$C$55,"ZS-storitev") -> 0 | L19: =SUMIFS('Finančni načrt 1. FAZA'!$K$14:$K$51,'Finančni načrt 1. FAZA'!$B$14:$B$51,"Partner 5",'Finančni načrt 1. FAZA'!$C$14:$C$51,"ZS-storitev") -> 0 | M19: =SUMIFS('Finančni načrt 2. FAZA'!$K$14:$K$55,'Finančni načrt 2. FAZA'!$B$14:$B$55,"Partner 5",'Finančni načrt 2. FAZA'!$C$14:$C$55,"ZS-storitev") -> 0 | N19: =SUMIFS('Finančni načrt 1. FAZA'!$K$14:$K$51,'Finančni načrt 1. FAZA'!$B$14:$B$51,"Partner 6",'Finančni načrt 1. FAZA'!$C$14:$C$51,"ZS-storitev") -> 0 | O19: =SUMIFS('Finančni načrt 2. FAZA'!$K$14:$K$55,'Finančni načrt 2. FAZA'!$B$14:$B$55,"Partner 6",'Finančni načrt 2. FAZA'!$C$14:$C$55,"ZS-storitev") -> 0 | P19: =SUMIFS('Finančni načrt 1. FAZA'!$K$14:$K$51,'Finančni načrt 1. FAZA'!$B$14:$B$51,"Partner 7",'Finančni načrt 1. FAZA'!$C$14:$C$51,"ZS-storitev") -> 0 | Q19: =SUMIFS('Finančni načrt 2. FAZA'!$K$14:$K$55,'Finančni načrt 2. FAZA'!$B$14:$B$55,"Partner 7",'Finančni načrt 2. FAZA'!$C$14:$C$55,"ZS-storitev") -> 0 | R19: =SUMIFS('Finančni načrt 1. FAZA'!$K$14:$K$51,'Finančni načrt 1. FAZA'!$B$14:$B$51,"Partner 8",'Finančni načrt 1. FAZA'!$C$14:$C$51,"ZS-storitev") -> 0 | S19: =SUMIFS('Finančni načrt 2. FAZA'!$K$14:$K$55,'Finančni načrt 2. FAZA'!$B$14:$B$55,"Partner 8",'Finančni načrt 2. FAZA'!$C$14:$C$55,"ZS-storitev") -> 0 | T19: =SUM(B19+D19+F19+H19+J19+L19+N19+P19+R19) -> 0 | U19: =+SUM(C19+E19+G19+I19+K19+M19+O19+Q19+S19) -> 0
A20: 3. Prispevek v naravi (PVN) | B20: =+B21+B22+B23 -> 0 | C20: =+C21+C22+C23 -> 0 | D20: =+D21+D22+D23 -> 0 | E20: =+E21+E22+E23 -> 0 | F20: =+F21+F22+F23 -> 0 | G20: =+G21+G22+G23 -> 0 | H20: =+H21+H22+H23 -> 0 | I20: =+I21+I22+I23 -> 0 | ... S20: =+S21+S22+S23 -> 0 | T20: =SUM(B20+D20+F20+H20+J20+L20+N20+P20+R20) -> 0 | U20: =+SUM(C20+E20+G20+I20+K20+M20+O20+Q20+S20) -> 0
A21: 3.1. Lastno delo | B21: =SUMIFS('Finančni načrt 1. FAZA'!$K$14:$K$51,'Finančni načrt 1. FAZA'!$B$14:$B$51,"Vodilni partner",'Finančni načrt 1. FAZA'!$C$14:$C$51,"PVN-lastno delo") -> 0 | C21: =SUMIFS('Finančni načrt 2. FAZA'!$K$14:$K$55,'Finančni načrt 2. FAZA'!$B$14:$B$55,"Vodilni partner",'Finančni načrt 2. FAZA'!$C$14:$C$55,"PVN-lastno delo") -> 0 | D21: =SUMIFS('Finančni načrt 1. FAZA'!$K$14:$K$51,'Finančni načrt 1. FAZA'!$B$14:$B$51,"Partner 1",'Finančni načrt 1. FAZA'!$C$14:$C$51,"PVN-lastno delo") -> 0 | E21: =SUMIFS('Finančni načrt 2. FAZA'!$K$14:$K$55,'Finančni načrt 2. FAZA'!$B$14:$B$55,"Partner 1",'Finančni načrt 2. FAZA'!$C$14:$C$55,"PVN-lastno delo") -> 0 | F21: =SUMIFS('Finančni načrt 1. FAZA'!$K$14:$K$51,'Finančni načrt 1. FAZA'!$B$14:$B$51,"Partner 2",'Finančni načrt 1. FAZA'!$C$14:$C$51,"PVN-lastno delo") -> 0 | G21: =SUMIFS('Finančni načrt 2. FAZA'!$K$14:$K$55,'Finančni načrt 2. FAZA'!$B$14:$B$55,"Partner 2",'Finančni načrt 2. FAZA'!$C$14:$C$55,"PVN-lastno delo") -> 0 | H21: =SUMIFS('Finančni načrt 1. FAZA'!$K$14:$K$51,'Finančni načrt 1. FAZA'!$B$14:$B$51,"Partner 3",'Finančni načrt 1. FAZA'!$C$14:$C$51,"PVN-lastno delo") -> 0 | I21: =SUMIFS('Finančni načrt 2. FAZA'!$K$14:$K$55,'Finančni načrt 2. FAZA'!$B$14:$B$55,"Partner 3",'Finančni načrt 2. FAZA'!$C$14:$C$55,"PVN-lastno delo") -> 0 | J21: =SUMIFS('Finančni načrt 1. FAZA'!$K$14:$K$51,'Finančni načrt 1. FAZA'!$B$14:$B$51,"Partner 4",'Finančni načrt 1. FAZA'!$C$14:$C$51,"PVN-lastno delo") -> 0 | K21: =SUMIFS('Finančni načrt 2. FAZA'!$K$14:$K$55,'Finančni načrt 2. FAZA'!$B$14:$B$55,"Partner 4",'Finančni načrt 2. FAZA'!$C$14:$C$55,"PVN-lastno delo") -> 0 | L21: =SUMIFS('Finančni načrt 1. FAZA'!$K$14:$K$51,'Finančni načrt 1. FAZA'!$B$14:$B$51,"Partner 5",'Finančni načrt 1. FAZA'!$C$14:$C$51,"PVN-lastno delo") -> 0 | M21: =SUMIFS('Finančni načrt 2. FAZA'!$K$14:$K$55,'Finančni načrt 2. FAZA'!$B$14:$B$55,"Partner 5",'Finančni načrt 2. FAZA'!$C$14:$C$55,"PVN-lastno delo") -> 0 | N21: =SUMIFS('Finančni načrt 1. FAZA'!$K$14:$K$51,'Finančni načrt 1. FAZA'!$B$14:$B$51,"Partner 6",'Finančni načrt 1. FAZA'!$C$14:$C$51,"PVN-lastno delo") -> 0 | O21: =SUMIFS('Finančni načrt 2. FAZA'!$K$14:$K$55,'Finančni načrt 2. FAZA'!$B$14:$B$55,"Partner 6",'Finančni načrt 2. FAZA'!$C$14:$C$55,"PVN-lastno delo") -> 0 | P21: =SUMIFS('Finančni načrt 1. FAZA'!$K$14:$K$51,'Finančni načrt 1. FAZA'!$B$14:$B$51,"Partner 7",'Finančni načrt 1. FAZA'!$C$14:$C$51,"PVN-lastno delo") -> 0 | Q21: =SUMIFS('Finančni načrt 2. FAZA'!$K$14:$K$55,'Finančni načrt 2. FAZA'!$B$14:$B$55,"Partner 7",'Finančni načrt 2. FAZA'!$C$14:$C$55,"PVN-lastno delo") -> 0 | R21: =SUMIFS('Finančni načrt 1. FAZA'!$K$14:$K$51,'Finančni načrt 1. FAZA'!$B$14:$B$51,"Partner 8",'Finančni načrt 1. FAZA'!$C$14:$C$51,"PVN-lastno delo") -> 0 | S21: =SUMIFS('Finančni načrt 2. FAZA'!$K$14:$K$55,'Finančni načrt 2. FAZA'!$B$14:$B$55,"Partner 8",'Finančni načrt 2. FAZA'!$C$14:$C$55,"PVN-lastno delo") -> 0 | T21: =SUM(B21+D21+F21+H21+J21+L21+N21+P21+R21) -> 0 | U21: =+SUM(C21+E21+G21+I21+K21+M21+O21+Q21+S21) -> 0
A22: 3.2. Lastni material | B22: =SUMIFS('Finančni načrt 1. FAZA'!$K$14:$K$51,'Finančni načrt 1. FAZA'!$B$14:$B$51,"Vodilni partner",'Finančni načrt 1. FAZA'!$C$14:$C$51,"PVN-lastni material") -> 0 | C22: =SUMIFS('Finančni načrt 2. FAZA'!$K$14:$K$55,'Finančni načrt 2. FAZA'!$B$14:$B$55,"Vodilni partner",'Finančni načrt 2. FAZA'!$C$14:$C$55,"PVN-lastni material") -> 0 | D22: =SUMIFS('Finančni načrt 1. FAZA'!$K$14:$K$51,'Finančni načrt 1. FAZA'!$B$14:$B$51,"Partner 1",'Finančni načrt 1. FAZA'!$C$14:$C$51,"PVN-lastni material") -> 0 | E22: =SUMIFS('Finančni načrt 2. FAZA'!$K$14:$K$55,'Finančni načrt 2. FAZA'!$B$14:$B$55,"Partner 1",'Finančni načrt 2. FAZA'!$C$14:$C$55,"PVN-lastni material") -> 0 | F22: =SUMIFS('Finančni načrt 1. FAZA'!$K$14:$K$51,'Finančni načrt 1. FAZA'!$B$14:$B$51,"Partner 2",'Finančni načrt 1. FAZA'!$C$14:$C$51,"PVN-lastni material") -> 0 | G22: =SUMIFS('Finančni načrt 2. FAZA'!$K$14:$K$55,'Finančni načrt 2. FAZA'!$B$14:$B$55,"Partner 2",'Finančni načrt 2. FAZA'!$C$14:$C$55,"PVN-lastni material") -> 0 | H22: =SUMIFS('Finančni načrt 1. FAZA'!$K$14:$K$51,'Finančni načrt 1. FAZA'!$B$14:$B$51,"Partner 3",'Finančni načrt 1. FAZA'!$C$14:$C$51,"PVN-lastni material") -> 0 | I22: =SUMIFS('Finančni načrt 2. FAZA'!$K$14:$K$55,'Finančni načrt 2. FAZA'!$B$14:$B$55,"Partner 3",'Finančni načrt 2. FAZA'!$C$14:$C$55,"PVN-lastni material") -> 0 | J22: =SUMIFS('Finančni načrt 1. FAZA'!$K$14:$K$51,'Finančni načrt 1. FAZA'!$B$14:$B$51,"Partner 4",'Finančni načrt 1. FAZA'!$C$14:$C$51,"PVN-lastni material") -> 0 | K22: =SUMIFS('Finančni načrt 2. FAZA'!$K$14:$K$55,'Finančni načrt 2. FAZA'!$B$14:$B$55,"Partner 4",'Finančni načrt 2. FAZA'!$C$14:$C$55,"PVN-lastni material") -> 0 | L22: =SUMIFS('Finančni načrt 1. FAZA'!$K$14:$K$51,'Finančni načrt 1. FAZA'!$B$14:$B$51,"Partner 5",'Finančni načrt 1. FAZA'!$C$14:$C$51,"PVN-lastni material") -> 0 | M22: =SUMIFS('Finančni načrt 2. FAZA'!$K$14:$K$55,'Finančni načrt 2. FAZA'!$B$14:$B$55,"Partner 5",'Finančni načrt 2. FAZA'!$C$14:$C$55,"PVN-lastni material") -> 0 | N22: =SUMIFS('Finančni načrt 1. FAZA'!$K$14:$K$51,'Finančni načrt 1. FAZA'!$B$14:$B$51,"Partner 6",'Finančni načrt 1. FAZA'!$C$14:$C$51,"PVN-lastni material") -> 0 | O22: =SUMIFS('Finančni načrt 2. FAZA'!$K$14:$K$55,'Finančni načrt 2. FAZA'!$B$14:$B$55,"Partner 6",'Finančni načrt 2. FAZA'!$C$14:$C$55,"PVN-lastni material") -> 0 | P22: =SUMIFS('Finančni načrt 1. FAZA'!$K$14:$K$51,'Finančni načrt 1. FAZA'!$B$14:$B$51,"Partner 7",'Finančni načrt 1. FAZA'!$C$14:$C$51,"PVN-lastni material") -> 0 | Q22: =SUMIFS('Finančni načrt 2. FAZA'!$K$14:$K$55,'Finančni načrt 2. FAZA'!$B$14:$B$55,"Partner 7",'Finančni načrt 2. FAZA'!$C$14:$C$55,"PVN-lastni material") -> 0 | R22: =SUMIFS('Finančni načrt 1. FAZA'!$K$14:$K$51,'Finančni načrt 1. FAZA'!$B$14:$B$51,"Partner 8",'Finančni načrt 1. FAZA'!$C$14:$C$51,"PVN-lastni material") -> 0 | S22: =SUMIFS('Finančni načrt 2. FAZA'!$K$14:$K$55,'Finančni načrt 2. FAZA'!$B$14:$B$55,"Partner 8",'Finančni načrt 2. FAZA'!$C$14:$C$55,"PVN-lastni material") -> 0 | T22: =SUM(B22+D22+F22+H22+J22+L22+N22+P22+R22) -> 0 | U22: =+SUM(C22+E22+G22+I22+K22+M22+O22+Q22+S22) -> 0
A23: 3.3. Zemljišče | B23: =SUMIFS('Finančni načrt 1. FAZA'!$K$14:$K$51,'Finančni načrt 1. FAZA'!$B$14:$B$51,"Vodilni partner",'Finančni načrt 1. FAZA'!$C$14:$C$51,"PVN-zemljišče") -> 0 | C23: =SUMIFS('Finančni načrt 2. FAZA'!$K$14:$K$55,'Finančni načrt 2. FAZA'!$B$14:$B$55,"Vodilni partner",'Finančni načrt 2. FAZA'!$C$14:$C$55,"PVN-zemljišče") -> 0 | D23: =SUMIFS('Finančni načrt 1. FAZA'!$K$14:$K$51,'Finančni načrt 1. FAZA'!$B$14:$B$51,"Partner 1",'Finančni načrt 1. FAZA'!$C$14:$C$51,"PVN-zemljišče") -> 0 | E23: =SUMIFS('Finančni načrt 2. FAZA'!$K$14:$K$55,'Finančni načrt 2. FAZA'!$B$14:$B$55,"Partner 1",'Finančni načrt 2. FAZA'!$C$14:$C$55,"PVN-zemljišče") -> 0 | F23: =SUMIFS('Finančni načrt 1. FAZA'!$K$14:$K$51,'Finančni načrt 1. FAZA'!$B$14:$B$51,"Partner 2",'Finančni načrt 1. FAZA'!$C$14:$C$51,"PVN-zemljišče") -> 0 | G23: =SUMIFS('Finančni načrt 2. FAZA'!$K$14:$K$55,'Finančni načrt 2. FAZA'!$B$14:$B$55,"Partner 2",'Finančni načrt 2. FAZA'!$C$14:$C$55,"PVN-zemljišče") -> 0 | H23: =SUMIFS('Finančni načrt 1. FAZA'!$K$14:$K$51,'Finančni načrt 1. FAZA'!$B$14:$B$51,"Partner 3",'Finančni načrt 1. FAZA'!$C$14:$C$51,"PVN-zemljišče") -> 0 | I23: =SUMIFS('Finančni načrt 2. FAZA'!$K$14:$K$55,'Finančni načrt 2. FAZA'!$B$14:$B$55,"Partner 3",'Finančni načrt 2. FAZA'!$C$14:$C$55,"PVN-zemljišče") -> 0 | J23: =SUMIFS('Finančni načrt 1. FAZA'!$K$14:$K$51,'Finančni načrt 1. FAZA'!$B$14:$B$51,"Partner 4",'Finančni načrt 1. FAZA'!$C$14:$C$51,"PVN-zemljišče") -> 0 | K23: =SUMIFS('Finančni načrt 2. FAZA'!$K$14:$K$55,'Finančni načrt 2. FAZA'!$B$14:$B$55,"Partner 4",'Finančni načrt 2. FAZA'!$C$14:$C$55,"PVN-zemljišče") -> 0 | L23: =SUMIFS('Finančni načrt 1. FAZA'!$K$14:$K$51,'Finančni načrt 1. FAZA'!$B$14:$B$51,"Partner 5",'Finančni načrt 1. FAZA'!$C$14:$C$51,"PVN-zemljišče") -> 0 | M23: =SUMIFS('Finančni načrt 2. FAZA'!$K$14:$K$55,'Finančni načrt 2. FAZA'!$B$14:$B$55,"Partner 5",'Finančni načrt 2. FAZA'!$C$14:$C$55,"PVN-zemljišče") -> 0 | N23: =SUMIFS('Finančni načrt 1. FAZA'!$K$14:$K$51,'Finančni načrt 1. FAZA'!$B$14:$B$51,"Partner 6",'Finančni načrt 1. FAZA'!$C$14:$C$51,"PVN-zemljišče") -> 0 | O23: =SUMIFS('Finančni načrt 2. FAZA'!$K$14:$K$55,'Finančni načrt 2. FAZA'!$B$14:$B$55,"Partner 6",'Finančni načrt 2. FAZA'!$C$14:$C$55,"PVN-zemljišče") -> 0 | P23: =SUMIFS('Finančni načrt 1. FAZA'!$K$14:$K$51,'Finančni načrt 1. FAZA'!$B$14:$B$51,"Partner 7",'Finančni načrt 1. FAZA'!$C$14:$C$51,"PVN-zemljišče") -> 0 | Q23: =SUMIFS('Finančni načrt 2. FAZA'!$K$14:$K$55,'Finančni načrt 2. FAZA'!$B$14:$B$55,"Partner 7",'Finančni načrt 2. FAZA'!$C$14:$C$55,"PVN-zemljišče") -> 0 | R23: =SUMIFS('Finančni načrt 1. FAZA'!$K$14:$K$51,'Finančni načrt 1. FAZA'!$B$14:$B$51,"Partner 8",'Finančni načrt 1. FAZA'!$C$14:$C$51,"PVN-zemljišče") -> 0 | S23: =SUMIFS('Finančni načrt 2. FAZA'!$K$14:$K$55,'Finančni načrt 2. FAZA'!$B$14:$B$55,"Partner 8",'Finančni načrt 2. FAZA'!$C$14:$C$55,"PVN-zemljišče") -> 0 | T23: =SUM(B23+D23+F23+H23+J23+L23+N23+P23+R23) -> 0 | U23: =+SUM(C23+E23+G23+I23+K23+M23+O23+Q23+S23) -> 0
A24: 4. Stroški storitev zunanjih izvajalcev - splošni stroški | B24: =+B25 -> 0 | C24: =+C25 -> 0 | D24: =+D25 -> 0 | E24: =+E25 -> 0 | F24: =+F25 -> 0 | G24: =+G25 -> 0 | H24: =+H25 -> 0 | I24: =+I25 -> 0 | ... S24: =+S25 -> 0 | T24: =SUM(B24+D24+F24+H24+J24+L24+N24+P24+R24) -> 0 | U24: =+SUM(C24+E24+G24+I24+K24+M24+O24+Q24+S24) -> 0
A25: 4.1. Stroški storitev zunanji izvajalci | B25: =SUMIFS('Finančni načrt 1. FAZA'!$K$14:$K$51,'Finančni načrt 1. FAZA'!$B$14:$B$51,"Vodilni partner",'Finančni načrt 1. FAZA'!$C$14:$C$51,"SS-zunanji izvajalci") -> 0 | C25: =SUMIFS('Finančni načrt 2. FAZA'!$K$14:$K$55,'Finančni načrt 2. FAZA'!$B$14:$B$55,"Vodilni partner",'Finančni načrt 2. FAZA'!$C$14:$C$55,"SS-zunanji izvajalci") -> 0 | D25: =SUMIFS('Finančni načrt 1. FAZA'!$K$14:$K$51,'Finančni načrt 1. FAZA'!$B$14:$B$51,"Partner 1",'Finančni načrt 1. FAZA'!$C$14:$C$51,"SS-zunanji izvajalci") -> 0 | E25: =SUMIFS('Finančni načrt 2. FAZA'!$K$14:$K$55,'Finančni načrt 2. FAZA'!$B$14:$B$55,"Partner 1",'Finančni načrt 2. FAZA'!$C$14:$C$55,"SS-zunanji izvajalci") -> 0 | F25: =SUMIFS('Finančni načrt 1. FAZA'!$K$14:$K$51,'Finančni načrt 1. FAZA'!$B$14:$B$51,"Partner 2",'Finančni načrt 1. FAZA'!$C$14:$C$51,"SS-zunanji izvajalci") -> 0 | G25: =SUMIFS('Finančni načrt 2. FAZA'!$K$14:$K$55,'Finančni načrt 2. FAZA'!$B$14:$B$55,"Partner 2",'Finančni načrt 2. FAZA'!$C$14:$C$55,"SS-zunanji izvajalci") -> 0 | H25: =SUMIFS('Finančni načrt 1. FAZA'!$K$14:$K$51,'Finančni načrt 1. FAZA'!$B$14:$B$51,"Partner 3",'Finančni načrt 1. FAZA'!$C$14:$C$51,"SS-zunanji izvajalci") -> 0 | I25: =SUMIFS('Finančni načrt 2. FAZA'!$K$14:$K$55,'Finančni načrt 2. FAZA'!$B$14:$B$55,"Partner 3",'Finančni načrt 2. FAZA'!$C$14:$C$55,"SS-zunanji izvajalci") -> 0 | J25: =SUMIFS('Finančni načrt 1. FAZA'!$K$14:$K$51,'Finančni načrt 1. FAZA'!$B$14:$B$51,"Partner 4",'Finančni načrt 1. FAZA'!$C$14:$C$51,"SS-zunanji izvajalci") -> 0 | K25: =SUMIFS('Finančni načrt 2. FAZA'!$K$14:$K$55,'Finančni načrt 2. FAZA'!$B$14:$B$55,"Partner 4",'Finančni načrt 2. FAZA'!$C$14:$C$55,"SS-zunanji izvajalci") -> 0 | L25: =SUMIFS('Finančni načrt 1. FAZA'!$K$14:$K$51,'Finančni načrt 1. FAZA'!$B$14:$B$51,"Partner 5",'Finančni načrt 1. FAZA'!$C$14:$C$51,"SS-zunanji izvajalci") -> 0 | M25: =SUMIFS('Finančni načrt 2. FAZA'!$K$14:$K$55,'Finančni načrt 2. FAZA'!$B$14:$B$55,"Partner 5",'Finančni načrt 2. FAZA'!$C$14:$C$55,"SS-zunanji izvajalci") -> 0 | N25: =SUMIFS('Finančni načrt 1. FAZA'!$K$14:$K$51,'Finančni načrt 1. FAZA'!$B$14:$B$51,"Partner 6",'Finančni načrt 1. FAZA'!$C$14:$C$51,"SS-zunanji izvajalci") -> 0 | O25: =SUMIFS('Finančni načrt 2. FAZA'!$K$14:$K$55,'Finančni načrt 2. FAZA'!$B$14:$B$55,"Partner 6",'Finančni načrt 2. FAZA'!$C$14:$C$55,"SS-zunanji izvajalci") -> 0 | P25: =SUMIFS('Finančni načrt 1. FAZA'!$K$14:$K$51,'Finančni načrt 1. FAZA'!$B$14:$B$51,"Partner 7",'Finančni načrt 1. FAZA'!$C$14:$C$51,"SS-zunanji izvajalci") -> 0 | Q25: =SUMIFS('Finančni načrt 2. FAZA'!$K$14:$K$55,'Finančni načrt 2. FAZA'!$B$14:$B$55,"Partner 7",'Finančni načrt 2. FAZA'!$C$14:$C$55,"SS-zunanji izvajalci") -> 0 | R25: =SUMIFS('Finančni načrt 1. FAZA'!$K$14:$K$51,'Finančni načrt 1. FAZA'!$B$14:$B$51,"Partner 8",'Finančni načrt 1. FAZA'!$C$14:$C$51,"SS-zunanji izvajalci") -> 0 | S25: =SUMIFS('Finančni načrt 2. FAZA'!$K$14:$K$55,'Finančni načrt 2. FAZA'!$B$14:$B$55,"Partner 8",'Finančni načrt 2. FAZA'!$C$14:$C$55,"SS-zunanji izvajalci") -> 0 | T25: =SUM(B25+D25+F25+H25+J25+L25+N25+P25+R25) -> 0 | U25: =+SUM(C25+E25+G25+I25+K25+M25+O25+Q25+S25) -> 0
A26: 5. Nakup zemljišč | B26: =+B27 -> 0 | C26: =+C27 -> 0 | D26: =+D27 -> 0 | E26: =+E27 -> 0 | F26: =+F27 -> 0 | G26: =+G27 -> 0 | H26: =+H27 -> 0 | I26: =+I27 -> 0 | ... S26: =+S27 -> 0 | T26: =SUM(B26+D26+F26+H26+J26+L26+N26+P26+R26) -> 0 | U26: =+SUM(C26+E26+G26+I26+K26+M26+O26+Q26+S26) -> 0
A27: 5.1. Nakup zemljišča | B27: =SUMIFS('Finančni načrt 1. FAZA'!$K$14:$K$51,'Finančni načrt 1. FAZA'!$B$14:$B$51,"Vodilni partner",'Finančni načrt 1. FAZA'!$C$14:$C$51,"Nakup zemljišča") -> 0 | C27: =SUMIFS('Finančni načrt 2. FAZA'!$K$14:$K$55,'Finančni načrt 2. FAZA'!$B$14:$B$55,"Vodilni partner",'Finančni načrt 2. FAZA'!$C$14:$C$55,"Nakup zemljišča") -> 0 | D27: =SUMIFS('Finančni načrt 1. FAZA'!$K$14:$K$51,'Finančni načrt 1. FAZA'!$B$14:$B$51,"Partner 1",'Finančni načrt 1. FAZA'!$C$14:$C$51,"Nakup zemljišča") -> 0 | E27: =SUMIFS('Finančni načrt 2. FAZA'!$K$14:$K$55,'Finančni načrt 2. FAZA'!$B$14:$B$55,"Partner 1",'Finančni načrt 2. FAZA'!$C$14:$C$55,"Nakup zemljišča") -> 0 | F27: =SUMIFS('Finančni načrt 1. FAZA'!$K$14:$K$51,'Finančni načrt 1. FAZA'!$B$14:$B$51,"Partner 2",'Finančni načrt 1. FAZA'!$C$14:$C$51,"Nakup zemljišča") -> 0 | G27: =SUMIFS('Finančni načrt 2. FAZA'!$K$14:$K$55,'Finančni načrt 2. FAZA'!$B$14:$B$55,"Partner 2",'Finančni načrt 2. FAZA'!$C$14:$C$55,"Nakup zemljišča") -> 0 | H27: =SUMIFS('Finančni načrt 1. FAZA'!$K$14:$K$51,'Finančni načrt 1. FAZA'!$B$14:$B$51,"Partner 3",'Finančni načrt 1. FAZA'!$C$14:$C$51,"SS-zunanji izvajalci") -> 0 | I27: =SUMIFS('Finančni načrt 2. FAZA'!$K$14:$K$55,'Finančni načrt 2. FAZA'!$B$14:$B$55,"Partner 3",'Finančni načrt 2. FAZA'!$C$14:$C$55,"SS-zunanji izvajalci") -> 0 | J27: =SUMIFS('Finančni načrt 1. FAZA'!$K$14:$K$51,'Finančni načrt 1. FAZA'!$B$14:$B$51,"Partner 4",'Finančni načrt 1. FAZA'!$C$14:$C$51,"SS-zunanji izvajalci") -> 0 | K27: =SUMIFS('Finančni načrt 2. FAZA'!$K$14:$K$55,'Finančni načrt 2. FAZA'!$B$14:$B$55,"Partner 4",'Finančni načrt 2. FAZA'!$C$14:$C$55,"SS-zunanji izvajalci") -> 0 | L27: =SUMIFS('Finančni načrt 1. FAZA'!$K$14:$K$51,'Finančni načrt 1. FAZA'!$B$14:$B$51,"Partner 5",'Finančni načrt 1. FAZA'!$C$14:$C$51,"SS-zunanji izvajalci") -> 0 | M27: =SUMIFS('Finančni načrt 2. FAZA'!$K$14:$K$55,'Finančni načrt 2. FAZA'!$B$14:$B$55,"Partner 5",'Finančni načrt 2. FAZA'!$C$14:$C$55,"SS-zunanji izvajalci") -> 0 | N27: =SUMIFS('Finančni načrt 1. FAZA'!$K$14:$K$51,'Finančni načrt 1. FAZA'!$B$14:$B$51,"Partner 6",'Finančni načrt 1. FAZA'!$C$14:$C$51,"SS-zunanji izvajalci") -> 0 | O27: =SUMIFS('Finančni načrt 2. FAZA'!$K$14:$K$55,'Finančni načrt 2. FAZA'!$B$14:$B$55,"Partner 6",'Finančni načrt 2. FAZA'!$C$14:$C$55,"SS-zunanji izvajalci") -> 0 | P27: =SUMIFS('Finančni načrt 1. FAZA'!$K$14:$K$51,'Finančni načrt 1. FAZA'!$B$14:$B$51,"Partner 7",'Finančni načrt 1. FAZA'!$C$14:$C$51,"SS-zunanji izvajalci") -> 0 | Q27: =SUMIFS('Finančni načrt 2. FAZA'!$K$14:$K$55,'Finančni načrt 2. FAZA'!$B$14:$B$55,"Partner 7",'Finančni načrt 2. FAZA'!$C$14:$C$55,"SS-zunanji izvajalci") -> 0 | R27: =SUMIFS('Finančni načrt 1. FAZA'!$K$14:$K$51,'Finančni načrt 1. FAZA'!$B$14:$B$51,"Partner 8",'Finančni načrt 1. FAZA'!$C$14:$C$51,"SS-zunanji izvajalci") -> 0 | S27: =SUMIFS('Finančni načrt 2. FAZA'!$K$14:$K$55,'Finančni načrt 2. FAZA'!$B$14:$B$55,"Partner 8",'Finančni načrt 2. FAZA'!$C$14:$C$55,"SS-zunanji izvajalci") -> 0 | T27: =SUM(B27+D27+F27+H27+J27+L27+N27+P27+R27) -> 0 | U27: =+SUM(C27+E27+G27+I27+K27+M27+O27+Q27+S27) -> 0
A28: 6. Upravičeni stroški, skupaj (1+2+3+4+5) | B28: =SUM(B14+B16+B20+B24+B27) -> 0 | C28: =SUM(C14+C16+C20+C24+C26) -> 0 | D28: =SUM(D14+D16+D20+D24+D26) -> 0 | E28: =SUM(E14+E16+E20+E24+E26) -> 0 | F28: =SUM(F14+F16+F20+F24+F26) -> 0 | G28: =SUM(G14+G16+G20+G24+G26) -> 0 | H28: =SUM(H14+H16+H20+H24+H26) -> 0 | I28: =SUM(I14+I16+I20+I24+I26) -> 0 | J28: =SUM(J14+J16+J20+J24+J26) -> 0 | ... S28: =SUM(S14+S16+S20+S24+S26) -> 0 | T28: =SUM(B28+D28+F28+H28+J28+L28+N28+P28+R28) -> 0 | U28: =+SUM(C28+E28+G28+I28+K28+M28+O28+Q28+S28) -> 0
A29: 7. Neupravičeni stroški | B29: =+B30 -> 0 | C29: =+C30 -> 0 | D29: =+D30 -> 0 | E29: =+E30 -> 0 | F29: =+F30 -> 0 | G29: =+G30 -> 0 | H29: =+H30 -> 0 | I29: =+I30 -> 0 | ... S29: =+S30 -> 0 | T29: =SUM(B29+D29+F29+H29+J29+L29+N29+P29+R29) -> 0 | U29: =+SUM(C29+E29+G29+I29+K29+M29+O29+Q29+S29) -> 0
A30: 7.1. Davek na dodano vrednost (DDV) | B30: =SUMIF('Finančni načrt 1. FAZA'!$B$14:$B$51,"Vodilni partner",'Finančni načrt 1. FAZA'!$I$14:$I$51) -> 0 | C30: =SUMIF('Finančni načrt 2. FAZA'!$B$14:$B$55,"Vodilni partner",'Finančni načrt 2. FAZA'!$I$14:$I$55) -> 0 | D30: =SUMIF('Finančni načrt 1. FAZA'!$B$14:$B$51,"Partner 1",'Finančni načrt 1. FAZA'!$I$14:$I$51) -> 0 | E30: =SUMIF('Finančni načrt 2. FAZA'!$B$14:$B$55,"Partner 1",'Finančni načrt 2. FAZA'!$I$14:$I$55) -> 0 | F30: =SUMIF('Finančni načrt 1. FAZA'!$B$14:$B$51,"Partner 2",'Finančni načrt 1. FAZA'!$I$14:$I$51) -> 0 | G30: =SUMIF('Finančni načrt 2. FAZA'!$B$14:$B$55,"Partner 2",'Finančni načrt 2. FAZA'!$I$14:$I$55) -> 0 | H30: =SUMIF('Finančni načrt 1. FAZA'!$B$14:$B$51,"Partner 3",'Finančni načrt 1. FAZA'!$I$14:$I$51) -> 0 | I30: =SUMIF('Finančni načrt 2. FAZA'!$B$14:$B$55,"Partner 3",'Finančni načrt 2. FAZA'!$I$14:$I$55) -> 0 | J30: =SUMIF('Finančni načrt 1. FAZA'!$B$14:$B$51,"Partner 4",'Finančni načrt 1. FAZA'!$I$14:$I$51) -> 0 | K30: =SUMIF('Finančni načrt 2. FAZA'!$B$14:$B$55,"Partner 4",'Finančni načrt 2. FAZA'!$I$14:$I$55) -> 0 | L30: =SUMIF('Finančni načrt 1. FAZA'!$B$14:$B$51,"Partner 5",'Finančni načrt 1. FAZA'!$I$14:$I$51) -> 0 | M30: =SUMIF('Finančni načrt 2. FAZA'!$B$14:$B$55,"Partner 5",'Finančni načrt 2. FAZA'!$I$14:$I$55) -> 0 | N30: =SUMIF('Finančni načrt 1. FAZA'!$B$14:$B$51,"Partner 6",'Finančni načrt 1. FAZA'!$I$14:$I$51) -> 0 | O30: =SUMIF('Finančni načrt 2. FAZA'!$B$14:$B$55,"Partner 6",'Finančni načrt 2. FAZA'!$I$14:$I$55) -> 0 | P30: =SUMIF('Finančni načrt 1. FAZA'!$B$14:$B$51,"Partner 7",'Finančni načrt 1. FAZA'!$I$14:$I$51) -> 0 | Q30: =SUMIF('Finančni načrt 2. FAZA'!$B$14:$B$55,"Partner 7",'Finančni načrt 2. FAZA'!$I$14:$I$55) -> 0 | R30: =SUMIF('Finančni načrt 1. FAZA'!$B$14:$B$51,"Partner 8",'Finančni načrt 1. FAZA'!$I$14:$I$51) -> 0 | S30: =SUMIF('Finančni načrt 2. FAZA'!$B$14:$B$55,"Partner 8",'Finančni načrt 2. FAZA'!$I$14:$I$55) -> 0 | T30: =SUM(B30+D30+F30+H30+J30+L30+N30+P30+R30) -> 0 | U30: =+SUM(C30+E30+G30+I30+K30+M30+O30+Q30+S30) -> 0
A31: 8. Stroški nastali z izvedbo operacije, SKUPAJ (6+7) | B31: =SUM(B28:B29) -> 0 | C31: =SUM(C28:C29) -> 0 | D31: =SUM(D28:D29) -> 0 | E31: =SUM(E28:E29) -> 0 | F31: =SUM(F28:F29) -> 0 | G31: =SUM(G28:G29) -> 0 | H31: =SUM(H28:H29) -> 0 | I31: =SUM(I28:I29) -> 0 | ... S31: =SUM(S28:S29) -> 0 | T31: =+T14+T16+T20+T24+T26+T29 -> 0 | U31: =+U14+U16+U20+U24+U26+U29 -> 0

Sheet Finančni načrt po fazah
A9: PRILOGA 1: FINANČNI NAČRT OPERACIIJE PO FAZAH
A10: Vrsta stroška | B10: Faza1 | C10: Faza 2 | D10: Skupaj
B11: (EUR) | C11: (EUR) | D11: (EUR)
A12: 1. Stroški plač in povračil stroškov v zvezi z delom | B12: =+B13 -> 0 | C12: =+C13 -> 0 | D12: =+B12+C12 -> 0
A13: 1.1. Stroški dela | B13: =SUMIF('Finančni načrt 1. FAZA'!C14:C51, "stroški dela",'Finančni načrt 1. FAZA'!K14:K51) -> 0 | C13: =SUMIF('Finančni načrt 2. FAZA'!C14:C56, "stroški dela",'Finančni načrt 2. FAZA'!K14:K56) -> 0 | D13: -
A14: 2. Zunanji stroški (ZS) (brez DDV) | B14: =+B15+B16+B17 -> 0 | C14: =+C15+C16+C17 -> 0 | D14: =+B14+C14 -> 0
A15: 2.1. Stroški materiala | B15: =SUMIF('Finančni načrt 1. FAZA'!C14:C51, "ZS-material",'Finančni načrt 1. FAZA'!K14:K51) -> 0 | C15: =SUMIF('Finančni načrt 2. FAZA'!C14:C56, "ZS-material",'Finančni načrt 2. FAZA'!K14:K56) -> 0 | D15: -
A16: 2.2. Stroški naložb | B16: =SUMIF('Finančni načrt 1. FAZA'!C14:C51, "ZS-naložba",'Finančni načrt 1. FAZA'!K14:K51) -> 0 | C16: =SUMIF('Finančni načrt 2. FAZA'!C14:C56, "ZS-naložba",'Finančni načrt 2. FAZA'!K14:K56) -> 0 | D16: -
A17: 2.3. Stroški storitev | B17: =SUMIF('Finančni načrt 1. FAZA'!C14:C51, "ZS-storitev",'Finančni načrt 1. FAZA'!K14:K51) -> 0 | C17: =SUMIF('Finančni načrt 2. FAZA'!C14:C56, "ZS-storitev",'Finančni načrt 2. FAZA'!K14:K56) -> 0 | D17: -
A18: 3. Prispevek v naravi (PVN) | B18: =+B19+B20+B21 -> 0 | C18: =+C19+C20+C21 -> 0 | D18: =+B18+C18 -> 0
A19: 3.1. Lastno delo | B19: =SUMIF('Finančni načrt 1. FAZA'!C14:C51, "PVN-lastno delo",'Finančni načrt 1. FAZA'!K14:K51) -> 0 | C19: =SUMIF('Finančni načrt 2. FAZA'!C14:C55, "PVN-lastno delo",'Finančni načrt 2. FAZA'!K14:K55) -> 0 | D19: -
A20: 3.2. Lastni material | B20: =SUMIF('Finančni načrt 1. FAZA'!C14:C51, "PVN-lastni material",'Finančni načrt 1. FAZA'!K14:K51) -> 0 | C20: =SUMIF('Finančni načrt 2. FAZA'!C14:C55, "PVN-lastni material",'Finančni načrt 2. FAZA'!K14:K55) -> 0 | D20: -
A21: 3.3. Zemljišče | B21: =SUMIF('Finančni načrt 1. FAZA'!C14:C51, "PVN-zemljišče",'Finančni načrt 1. FAZA'!K14:K51) -> 0 | C21: =SUMIF('Finančni načrt 2. FAZA'!C14:C55, "PVN-zemljišče",'Finančni načrt 1. FAZA'!K14:K51) -> 0 | D21: -
A22: 4. Stroški storitev zunanjih izvajalcev - splošni stroški | B22: =+B23 -> 0 | C22: =+C23 -> 0 | D22: =+B22+C22 -> 0
A23: 4.1. Stroški storitev zunanji izvajalci | B23: =SUMIF('Finančni načrt 1. FAZA'!C14:C51, "SS-zunanji izvajalci",'Finančni načrt 1. FAZA'!K14:K51) -> 0 | C23: =SUMIF('Finančni načrt 2. FAZA'!C14:C55, "SS-zunanji izvajalci",'Finančni načrt 2. FAZA'!K14:K55) -> 0 | D23: -
A24: 5. Nakup zemljišč | B24: =+B25 -> 0 | C24: =+C25 -> 0 | D24: =+B24+C24 -> 0
A25: 5.1. Nakup zemljišča | B25: =SUMIF('Finančni načrt 1. FAZA'!C14:C51, "Nakup zemljišča",'Finančni načrt 1. FAZA'!K14:K51) -> 0 | C25: =SUMIF('Finančni načrt 2. FAZA'!C14:C55, "Nakup zemljišča",'Finančni načrt 2. FAZA'!K14:K55) -> 0 | D25: -
A26: 6. Upravičeni stroški, skupaj (1+2+3+4+5) | B26: =+B12+B14+B18+B22+B24 -> 0 | C26: =+C12+C14+C18+C22+C24 -> 0 | D26: =+B26+C26 -> 0
A27: 7. Neupravičeni stroški | B27: =+B28 -> 0 | C27: =+C28 -> 0 | D27: =+B27+C27 -> 0
A28: 7.1. Davek na dodano vrednost (DDV) | B28: =+'Finančni načrt 1. FAZA'!I52 -> 0 | C28: =+'Finančni načrt 2. FAZA'!I56 -> 0 | D28: -
A29: 8. Stroški nastali z izvedbo operacije, skupaj (6+7) | B29: =+B26+B27 -> 0 | C29: =+C26+C27 -> 0 | D29: =+B29+C29 -> 0

Sheet Finančna konstrukcija operacije
A9: Finančna konstrukcija operacije
A10: vir financiranja | B10: Vodilni partner | D10: Partner 1 | F10: Partner 2 | H10: Partner 3 | J10: Partner 4 | L10: Partner 5 | N10: Partner 6 | P10: Partner 7 | R10: Partner 8 | T10: Skupaj | V10: Skupaj
B11: Faza 1 | C11: Faza 2 | D11: Faza 1 | E11: Faza 2 | F11: Faza 1 | G11: Faza 2 | H11: Faza 1 | I11: Faza 2 | J11: Faza 1 | K11: Faza 2 | L11: Faza 1 | M11: Faza 2 | N11: Faza 1 | O11: Faza 2 | P11: Faza 1 | Q11: Faza 2 | R11: Faza 1 | S11: Faza 2 | T11: Faza 1 | U11: Faza 2 | V11: 1 in 2 Faza
A12: Celotna vrednost (v EUR) | B12: =SUMIF('Finančni načrt 1. FAZA'!B14:B51, "Vodilni partner",'Finančni načrt 1. FAZA'!G14:G51) -> 0 | C12: =SUMIF('Finančni načrt 2. FAZA'!B14:B55, "Vodilni partner",'Finančni načrt 2. FAZA'!G14:G55) -> 0 | D12: =SUMIF('Finančni načrt 1. FAZA'!$B$14:$B$51, "Partner 1",'Finančni načrt 1. FAZA'!$G$14:$G$51) -> 0 | E12: =SUMIF('Finančni načrt 2. FAZA'!$B$14:$B$55, "Partner 1",'Finančni načrt 2. FAZA'!$G$14:$G$55) -> 0 | F12: =SUMIF('Finančni načrt 1. FAZA'!$B$14:$B$51, "Partner 2",'Finančni načrt 1. FAZA'!$G$14:$G$51) -> 0 | G12: =SUMIF('Finančni načrt 2. FAZA'!$B$14:$B$55, "Partner 2",'Finančni načrt 2. FAZA'!$G$14:$G$55) -> 0 | H12: =SUMIF('Finančni načrt 1. FAZA'!$B$14:$B$51, "Partner 3",'Finančni načrt 1. FAZA'!$G$14:$G$51) -> 0 | I12: =SUMIF('Finančni načrt 2. FAZA'!$B$14:$B$55, "Partner 3",'Finančni načrt 2. FAZA'!$G$14:$G$55) -> 0 | J12: =SUMIF('Finančni načrt 1. FAZA'!$B$14:$B$51, "Partner 4",'Finančni načrt 1. FAZA'!$G$14:$G$51) -> 0 | K12: =SUMIF('Finančni načrt 2. FAZA'!$B$14:$B$55, "Partner 4",'Finančni načrt 2. FAZA'!$G$14:$G$55) -> 0 | L12: =SUMIF('Finančni načrt 1. FAZA'!$B$14:$B$51, "Partner 5",'Finančni načrt 1. FAZA'!$G$14:$G$51) -> 0 | M12: =SUMIF('Finančni načrt 2. FAZA'!$B$14:$B$55, "Partner 5",'Finančni načrt 2. FAZA'!$G$14:$G$55) -> 0 | N12: =SUMIF('Finančni načrt 1. FAZA'!$B$14:$B$51, "Partner 6",'Finančni načrt 1. FAZA'!$G$14:$G$51) -> 0 | O12: =SUMIF('Finančni načrt 2. FAZA'!$B$14:$B$55, "Partner 6",'Finančni načrt 2. FAZA'!$G$14:$G$55) -> 0 | P12: =SUMIF('Finančni načrt 1. FAZA'!$B$14:$B$51, "Partner 7",'Finančni načrt 1. FAZA'!$G$14:$G$51) -> 0 | Q12: =SUMIF('Finančni načrt 2. FAZA'!$B$14:$B$55, "Partner 7",'Finančni načrt 2. FAZA'!$G$14:$G$55) -> 0 | R12: =SUMIF('Finančni načrt 1. FAZA'!$B$14:$B$51, "Partner 8",'Finančni načrt 1. FAZA'!$G$14:$G$51) -> 0 | S12: =SUMIF('Finančni načrt 2. FAZA'!$B$14:$B$55, "Partner 8",'Finančni načrt 2. FAZA'!$G$14:$G$55) -> 0 | T12: =+B12+D12+F12+H12+J12+L12+N12+P12+R12 -> 0 | U12: =+C12+E12+G12+I12+K12+M12+O12+Q12+S12 -> 0 | V12: =+T12+U12 -> 0
A13: Višina podpore (v EUR) | B13: =SUMIF('Finančni načrt 1. FAZA'!$B$14:$B$51, "Vodilni partner",'Finančni načrt 1. FAZA'!$M$14:$M$51) -> 0 | C13: =SUMIF('Finančni načrt 2. FAZA'!$B$14:$B$56, "Vodilni partner",'Finančni načrt 2. FAZA'!$M$14:$M$56) -> 0 | D13: =SUMIF('Finančni načrt 1. FAZA'!$B$14:$B$51, "Partner 1",'Finančni načrt 1. FAZA'!$M$14:$M$51) -> 0 | E13: =SUMIF('Finančni načrt 2. FAZA'!$B$14:$B$56, "Partner 1",'Finančni načrt 2. FAZA'!$M$14:$M$56) -> 0 | F13: =SUMIF('Finančni načrt 1. FAZA'!$B$14:$B$51, "Partner 2",'Finančni načrt 1. FAZA'!$M$14:$M$51) -> 0 | G13: =SUMIF('Finančni načrt 2. FAZA'!$B$14:$B$56, "Partner 2",'Finančni načrt 2. FAZA'!$M$14:$M$56) -> 0 | H13: =SUMIF('Finančni načrt 1. FAZA'!$B$14:$B$51, "Partner 3",'Finančni načrt 1. FAZA'!$M$14:$M$51) -> 0 | I13: =SUMIF('Finančni načrt 2. FAZA'!$B$14:$B$56, "Partner 3",'Finančni načrt 2. FAZA'!$M$14:$M$56) -> 0 | J13: =SUMIF('Finančni načrt 1. FAZA'!$B$14:$B$51, "Partner 4",'Finančni načrt 1. FAZA'!$M$14:$M$51) -> 0 | K13: =SUMIF('Finančni načrt 2. FAZA'!$B$14:$B$56, "Partner 4",'Finančni načrt 2. FAZA'!$M$14:$M$56) -> 0 | L13: =SUMIF('Finančni načrt 1. FAZA'!$B$14:$B$51, "Partner 5",'Finančni načrt 1. FAZA'!$M$14:$M$51) -> 0 | M13: =SUMIF('Finančni načrt 2. FAZA'!$B$14:$B$56, "Partner 5",'Finančni načrt 2. FAZA'!$M$14:$M$56) -> 0 | N13: =SUMIF('Finančni načrt 1. FAZA'!$B$14:$B$51, "Partner 6",'Finančni načrt 1. FAZA'!$M$14:$M$51) -> 0 | O13: =SUMIF('Finančni načrt 2. FAZA'!$B$14:$B$56, "Partner 6",'Finančni načrt 2. FAZA'!$M$14:$M$56) -> 0 | P13: =SUMIF('Finančni načrt 1. FAZA'!$B$14:$B$51, "Partner 7",'Finančni načrt 1. FAZA'!$M$14:$M$51) -> 0 | Q13: =SUMIF('Finančni načrt 2. FAZA'!$B$14:$B$56, "Partner 7",'Finančni načrt 2. FAZA'!$M$14:$M$56) -> 0 | R13: =SUMIF('Finančni načrt 1. FAZA'!$B$14:$B$51, "Partner 8",'Finančni načrt 1. FAZA'!$M$14:$M$51) -> 0 | S13: =SUMIF('Finančni načrt 2. FAZA'!$B$14:$B$56, "Partner 8",'Finančni načrt 2. FAZA'!$M$14:$M$56) -> 0 | T13: =+B13+D13+F13+H13+J13+L13+N13+P13+R13 -> 0 | U13: =+C13+E13+G13+I13+K13+M13+O13+Q13+S13 -> 0 | V13: =+T13+U13 -> 0
A14: Lastna sredstva (v EUR) | B14: =SUMIF('Finančni načrt 1. FAZA'!$B$14:$B$51, "Vodilni partner",'Finančni načrt 1. FAZA'!$N$14:$N$51) -> 0 | C14: =SUMIF('Finančni načrt 2. FAZA'!$B$14:$B$56, "Vodilni partner",'Finančni načrt 2. FAZA'!$N$15:$N$57) -> 0 | D14: =SUMIF('Finančni načrt 1. FAZA'!$B$14:$B$51, "Partner 1",'Finančni načrt 1. FAZA'!$N$14:$N$51) -> 0 | E14: =SUMIF('Finančni načrt 2. FAZA'!$B$14:$B$56, "Partner 1",'Finančni načrt 2. FAZA'!$N$15:$N$57) -> 0 | F14: =SUMIF('Finančni načrt 1. FAZA'!$B$14:$B$51, "Partner 2",'Finančni načrt 1. FAZA'!$N$14:$N$51) -> 0 | G14: =SUMIF('Finančni načrt 2. FAZA'!$B$14:$B$56, "Partner 2",'Finančni načrt 2. FAZA'!$N$15:$N$57) -> 0 | H14: =SUMIF('Finančni načrt 1. FAZA'!$B$14:$B$51, "Partner 3",'Finančni načrt 1. FAZA'!$N$14:$N$51) -> 0 | I14: =SUMIF('Finančni načrt 2. FAZA'!$B$14:$B$56, "Partner 3",'Finančni načrt 2. FAZA'!$N$15:$N$57) -> 0 | J14: =SUMIF('Finančni načrt 1. FAZA'!$B$14:$B$51, "Partner 4",'Finančni načrt 1. FAZA'!$N$14:$N$51) -> 0 | K14: =SUMIF('Finančni načrt 2. FAZA'!$B$14:$B$56, "Partner 4",'Finančni načrt 2. FAZA'!$N$15:$N$57) -> 0 | L14: =SUMIF('Finančni načrt 1. FAZA'!$B$14:$B$51, "Partner 5",'Finančni načrt 1. FAZA'!$N$14:$N$51) -> 0 | M14: =SUMIF('Finančni načrt 2. FAZA'!$B$14:$B$56, "Partner 5",'Finančni načrt 2. FAZA'!$N$15:$N$57) -> 0 | N14: =SUMIF('Finančni načrt 1. FAZA'!$B$14:$B$51, "Partner 6",'Finančni načrt 1. FAZA'!$N$14:$N$51) -> 0 | O14: =SUMIF('Finančni načrt 2. FAZA'!$B$14:$B$56, "Partner 6",'Finančni načrt 2. FAZA'!$N$15:$N$57) -> 0 | P14: =SUMIF('Finančni načrt 1. FAZA'!$B$14:$B$51, "Partner 7",'Finančni načrt 1. FAZA'!$N$14:$N$51) -> 0 | Q14: =SUMIF('Finančni načrt 2. FAZA'!$B$14:$B$56, "Partner 7",'Finančni načrt 2. FAZA'!$N$15:$N$57) -> 0 | R14: =SUMIF('Finančni načrt 1. FAZA'!$B$14:$B$51, "Partner 8",'Finančni načrt 1. FAZA'!$N$14:$N$51) -> 0 | S14: =SUMIF('Finančni načrt 2. FAZA'!$B$14:$B$56, "Partner 8",'Finančni načrt 2. FAZA'!$N$15:$N$57) -> 0 | T14: =+B14+D14+F14+H14+J14+L14+N14+P14+R14 -> 0 | U14: =+C14+E14+G14+I14+K14+M14+O14+Q14+S14 -> 0 | V14: =+T14+U14 -> 0
A15: Upravičeni stroški (v EUR) | B15: =SUMIF('Finančni načrt 1. FAZA'!$B$14:$B$51, "Vodilni partner",'Finančni načrt 1. FAZA'!$K$14:$K$51) -> 0 | C15: =SUMIF('Finančni načrt 2. FAZA'!$B$14:$B$55, "Vodilni partner",'Finančni načrt 2. FAZA'!$K$14:$K$55) -> 0 | D15: =SUMIF('Finančni načrt 1. FAZA'!$B$14:$B$51, "Partner 1",'Finančni načrt 1. FAZA'!$K$14:$K$51) -> 0 | E15: =SUMIF('Finančni načrt 2. FAZA'!$B$14:$B$55, "Partner 1",'Finančni načrt 2. FAZA'!$K$14:$K$55) -> 0 | F15: =SUMIF('Finančni načrt 1. FAZA'!$B$14:$B$51, "Partner 2",'Finančni načrt 1. FAZA'!$K$14:$K$51) -> 0 | G15: =SUMIF('Finančni načrt 2. FAZA'!$B$14:$B$55, "Partner 2",'Finančni načrt 2. FAZA'!$K$14:$K$55) -> 0 | H15: =SUMIF('Finančni načrt 1. FAZA'!$B$14:$B$51, "Partner 3",'Finančni načrt 1. FAZA'!$K$14:$K$51) -> 0 | I15: =SUMIF('Finančni načrt 2. FAZA'!$B$14:$B$55, "Partner 3",'Finančni načrt 2. FAZA'!$K$14:$K$55) -> 0 | J15: =SUMIF('Finančni načrt 1. FAZA'!$B$14:$B$51, "Partner 4",'Finančni načrt 1. FAZA'!$K$14:$K$51) -> 0 | K15: =SUMIF('Finančni načrt 2. FAZA'!$B$14:$B$55, "Partner 4",'Finančni načrt 2. FAZA'!$K$14:$K$55) -> 0 | L15: =SUMIF('Finančni načrt 1. FAZA'!$B$14:$B$51, "Partner 5",'Finančni načrt 1. FAZA'!$K$14:$K$51) -> 0 | M15: =SUMIF('Finančni načrt 2. FAZA'!$B$14:$B$55, "Partner 5",'Finančni načrt 2. FAZA'!$K$14:$K$55) -> 0 | N15: =SUMIF('Finančni načrt 1. FAZA'!$B$14:$B$51, "Partner 6",'Finančni načrt 1. FAZA'!$K$14:$K$51) -> 0 | O15: =SUMIF('Finančni načrt 2. FAZA'!$B$14:$B$55, "Partner 6",'Finančni načrt 2. FAZA'!$K$14:$K$55) -> 0 | P15: =SUMIF('Finančni načrt 1. FAZA'!$B$14:$B$51, "Partner 7",'Finančni načrt 1. FAZA'!$K$14:$K$51) -> 0 | Q15: =SUMIF('Finančni načrt 2. FAZA'!$B$14:$B$55, "Partner 7",'Finančni načrt 2. FAZA'!$K$14:$K$55) -> 0 | R15: =SUMIF('Finančni načrt 1. FAZA'!$B$14:$B$51, "Partner 8",'Finančni načrt 1. FAZA'!$K$14:$K$51) -> 0 | S15: =SUMIF('Finančni načrt 2. FAZA'!$B$14:$B$55, "Partner 8",'Finančni načrt 2. FAZA'!$K$14:$K$55) -> 0 | T15: =+B15+D15+F15+H15+J15+L15+N15+P15+R15 -> 0 | U15: =+C15+E15+G15+I15+K15+M15+O15+Q15+S15 -> 0 | V15: =+T15+U15 -> 0
A16: Prispevek v naravi (v EUR) | B16: ='Finančni načrt po partnerjih'!B20 -> 0 | C16: ='Finančni načrt po partnerjih'!C20 -> 0 | D16: ='Finančni načrt po partnerjih'!D20 -> 0 | E16: ='Finančni načrt po partnerjih'!E20 -> 0 | F16: ='Finančni načrt po partnerjih'!F20 -> 0 | G16: ='Finančni načrt po partnerjih'!G20 -> 0 | H16: ='Finančni načrt po partnerjih'!H20 -> 0 | I16: ='Finančni načrt po partnerjih'!I20 -> 0 | ... S16: ='Finančni načrt po partnerjih'!S20 -> 0 | T16: =+B16+D16+F16+H16+J16+L16+N16+P16+R16 -> 0 | U16: =+C16+E16+G16+I16+K16+M16+O16+Q16+S16 -> 0 | V16: =+T16+U16 -> 0
A17: Splošni stroški (v EUR) | B17: ='Finančni načrt po partnerjih'!B24 -> 0 | C17: ='Finančni načrt po partnerjih'!C24 -> 0 | D17: ='Finančni načrt po partnerjih'!D24 -> 0 | E17: ='Finančni načrt po partnerjih'!E24 -> 0 | F17: ='Finančni načrt po partnerjih'!F24 -> 0 | G17: ='Finančni načrt po partnerjih'!G24 -> 0 | H17: ='Finančni načrt po partnerjih'!H24 -> 0 | I17: ='Finančni načrt po partnerjih'!I24 -> 0 | ... S17: ='Finančni načrt po partnerjih'!S24 -> 0 | T17: =+B17+D17+F17+H17+J17+L17+N17+P17+R17 -> 0 | U17: =+C17+E17+G17+I17+K17+M17+O17+Q17+S17 -> 0 | V17: =+T17+U17 -> 0
A18: Nakup zemljišča (v EUR) | B18: ='Finančni načrt po partnerjih'!B26 -> 0 | C18: ='Finančni načrt po partnerjih'!C26 -> 0 | D18: ='Finančni načrt po partnerjih'!D26 -> 0 | E18: ='Finančni načrt po partnerjih'!E26 -> 0 | F18: ='Finančni načrt po partnerjih'!F26 -> 0 | G18: ='Finančni načrt po partnerjih'!G26 -> 0 | H18: ='Finančni načrt po partnerjih'!H26 -> 0 | I18: ='Finančni načrt po partnerjih'!I26 -> 0 | ... S18: ='Finančni načrt po partnerjih'!S26 -> 0 | T18: =+B18+D18+F18+H18+J18+L18+N18+P18+R18 -> 0 | U18: =+C18+E18+G18+I18+K18+M18+O18+Q18+S18 -> 0 | V18: =+T18+U18 -> 0
A19: Stroški naložb (v EUR) | B19: ='Finančni načrt po partnerjih'!B18 -> 0 | C19: ='Finančni načrt po partnerjih'!C18 -> 0 | D19: ='Finančni načrt po partnerjih'!D18 -> 0 | E19: ='Finančni načrt po partnerjih'!E18 -> 0 | F19: ='Finančni načrt po partnerjih'!F18 -> 0 | G19: ='Finančni načrt po partnerjih'!G18 -> 0 | H19: ='Finančni načrt po partnerjih'!H18 -> 0 | I19: ='Finančni načrt po partnerjih'!I18 -> 0 | ... S19: ='Finančni načrt po partnerjih'!S18 -> 0 | T19: =+B19+D19+F19+H19+J19+L19+N19+P19+R19 -> 0 | U19: =+C19+E19+G19+I19+K19+M19+O19+Q19+S19 -> 0 | V19: =+T19+U19 -> 0
A21: do 10 % upravičenih stroškov I. in II. faza
A22: Prispevek v naravi (v %) | B22: =+V16*100/V15 -> #DIV/0!
A23: Splošni stroški (v %) | B23: =+V17*100/V15 -> #DIV/0!
A24: Nakup zemljišča (v %) | B24: =+V18*100/V15 -> #DIV/0!
A26: Delež stroška naložbe glede na celotne upravičene stroške operacije
A27: Stroški naložb | B27: =V19/V15*100 -> #DIV/0!
